BEGIN:VCALENDAR
VERSION:2.0
PRODID:-//Oakbridge Community - ECPv6.15.20//NONSGML v1.0//EN
CALSCALE:GREGORIAN
METHOD:PUBLISH
X-WR-CALNAME:Oakbridge Community
X-ORIGINAL-URL:https://oakbridge.community
X-WR-CALDESC:Events for Oakbridge Community
REFRESH-INTERVAL;VALUE=DURATION:PT1H
X-Robots-Tag:noindex
X-PUBLISHED-TTL:PT1H
BEGIN:VTIMEZONE
TZID:America/Chicago
BEGIN:DAYLIGHT
TZOFFSETFROM:-0600
TZOFFSETTO:-0500
TZNAME:CDT
DTSTART:20180311T080000
END:DAYLIGHT
BEGIN:STANDARD
TZOFFSETFROM:-0500
TZOFFSETTO:-0600
TZNAME:CST
DTSTART:20181104T070000
END:STANDARD
BEGIN:DAYLIGHT
TZOFFSETFROM:-0600
TZOFFSETTO:-0500
TZNAME:CDT
DTSTART:20190310T080000
END:DAYLIGHT
BEGIN:STANDARD
TZOFFSETFROM:-0500
TZOFFSETTO:-0600
TZNAME:CST
DTSTART:20191103T070000
END:STANDARD
BEGIN:DAYLIGHT
TZOFFSETFROM:-0600
TZOFFSETTO:-0500
TZNAME:CDT
DTSTART:20200308T080000
END:DAYLIGHT
BEGIN:STANDARD
TZOFFSETFROM:-0500
TZOFFSETTO:-0600
TZNAME:CST
DTSTART:20201101T070000
END:STANDARD
BEGIN:DAYLIGHT
TZOFFSETFROM:-0600
TZOFFSETTO:-0500
TZNAME:CDT
DTSTART:20210314T080000
END:DAYLIGHT
BEGIN:STANDARD
TZOFFSETFROM:-0500
TZOFFSETTO:-0600
TZNAME:CST
DTSTART:20211107T070000
END:STANDARD
END:VTIMEZONE
BEGIN:VEVENT
DTSTART;TZID=America/Chicago:20200318T190000
DTEND;TZID=America/Chicago:20200318T210000
DTSTAMP:20260421T082402
CREATED:20200308T205221Z
LAST-MODIFIED:20200316T012015Z
UID:444-1584558000-1584565200@oakbridge.community
SUMMARY:Board Meeting - March 18\, 2020 - Cancelled
DESCRIPTION:The March 18\, 2020 Board meeting has been cancelled for COVID-19 concerns. The next Board meeting is tentatively planned for April 22\, 2020. \nThe Oakbridge Community Services Association Board of Directors will next meet on Wed. Mar. 18\, at 7:00 PM at Regus\, 8383 Greenway Blvd. #600 in Middleton.  Oakbridge residents are welcome to attend but should be there no later than 7:00\, since the building will be security locked thereafter. Anyone who’d like to communicate with the Board but isn’t able to make the meeting may do so via e-mail at board@oakbridge.community.
URL:https://oakbridge.community/event/board-meeting-march-18-2020/
LOCATION:Regus\, 8383 Greenway Blvd. Suite 600\, Middleton\, WI\, 53562\, United States
CATEGORIES:Board Meeting
END:VEVENT
BEGIN:VEVENT
DTSTART;TZID=America/Chicago:20200219T190000
DTEND;TZID=America/Chicago:20200219T190000
DTSTAMP:20260421T082402
CREATED:20200124T011809Z
LAST-MODIFIED:20200124T011809Z
UID:433-1582138800-1582138800@oakbridge.community
SUMMARY:Board Meeting - 2/19/20
DESCRIPTION:The Oakbridge Community Services Association (OCSA) Board of Directors will next meet at 7:00 PM on Wed. Feb. 19 at the Ashman Library\, 733 N. High Point Rd. \n \nAt this meeting the Board will take up the wording of follow-up letters to residents who haven’t yet paid their annual lot-assessment fees as well as do a preliminary review of revisions to the Architectural Control Rules proposed by the Architectural Review Board. \nThe meeting is open to the public in general but to residents of Oakbridge in particular. Time is set aside at the beginning of each meeting for public comments as a courtesy to visitors who can only stay a short while. \nIf you have business you’d like the Board to consider\, please e-mail it to President Abigail Darwin AKDarwin@gmail.com.
URL:https://oakbridge.community/event/board-meeting-2-19-20/
LOCATION:Alicia Ashman Library
CATEGORIES:Board Meeting
END:VEVENT
BEGIN:VEVENT
DTSTART;TZID=America/Chicago:20191205T190000
DTEND;TZID=America/Chicago:20191205T210000
DTSTAMP:20260421T082402
CREATED:20191130T160255Z
LAST-MODIFIED:20191130T160255Z
UID:397-1575572400-1575579600@oakbridge.community
SUMMARY:Board Meeting - 12/5/19
DESCRIPTION:The next Oakbridge Community Services Association (OCSA) Board Meeting will be held on Thursday\, December 5\, 2019\, at 7:00 pm at the Madison College West Campus\, 8017 Excelsior Dr.\, Madison\, WI 53717. \nAmong other items\, the Board will be discussing the January annual meeting and what documents to draft and hand out. It will also be crafting the text of the annual dues-notice letter for 2020. It will NOT be voting on the actual assessment amount until its January meeting (following the annual meeting on Wednesday\, January 8\, 2020)\, but it IS interested in hearing any input that Oakbridge residents have to offer on the subject of the annual dues. \nAll Oakbridge residents are welcome and invited to attend.
URL:https://oakbridge.community/event/board-meeting-12-5-19/
LOCATION:Madison College West\, 8017 Excelsior Dr\, Madison\, WI\, 53717\, United States
CATEGORIES:Board Meeting
END:VEVENT
BEGIN:VEVENT
DTSTART;TZID=America/Chicago:20191010T190000
DTEND;TZID=America/Chicago:20191010T210000
DTSTAMP:20260421T082402
CREATED:20191003T014244Z
LAST-MODIFIED:20191003T020811Z
UID:366-1570734000-1570741200@oakbridge.community
SUMMARY:Board Meeting - Oct 10\, 2019
DESCRIPTION:The Oakbridge Community Services Association (OCSA) Board of Directors will meet from 7 to 9 PM on Thu. Oct. 10 in Room 112 of the Madison College West Campus\, 8017 Excelsior Drive in Madison. Members of the public — especially Oakbridge residents — are welcome to attend. \n\nThe principal order of business will be further consideration of an amendment to the OCSA By-Laws that was left undecided at the previous meeting. \nIn other Board news\, Ron Hay has announced that he won’t be running for re-election to the Board at the annual meeting in January. In all\, Ron has devoted 21 years of selfless service to OCSA\, including many as its President\, and he will leave big shoes to fill. Treasurer Jeff Wilson has also said that he will be stepping down from that role in January. \nThis would be an excellent time for other community members who are dedicated to keeping Oakbridge a vibrant neighborhood to consider stepping up to run for the Board themselves. The main obligation is attending monthly (more or less) meetings. The Board very much encourages diverse participation in its decision-making. \nWhile you may\, of course\, wait until the annual meeting in January to declare your official candidacy\, it would help if we knew in advance how much interest there is in filling these jobs\, so if you’re thinking about it — or even just wondering about it — please contact OCSA President Abigail Darwin at AKDarwin@gmail.com.
URL:https://oakbridge.community/event/board-meeting-oct-10-2019/
LOCATION:WI
CATEGORIES:Board Meeting
END:VEVENT
END:VCALENDAR